BEGIN:VCALENDAR
PRODID:-//Mozilla.org/NONSGML Mozilla Calendar V1.1//EN
VERSION:2.0
BEGIN:VEVENT
UID:a4ad5ad6-d63b-48d0-a296-e1d640bbc0f5
DTSTAMP:20260618T093000
DTSTART:20260618T093000
DTEND:20260618T160000
LOCATION:MIMIK,Achter de Muren Vispoort 8 - 10 7411 SL Deventer
DESCRIPTION:Cultuurcongres Overijssel is op 18 juni in Deventer

SUMMARY:Cultuurcongres 2026
PRIORITY:3
END:VEVENT
END:VCALENDAR
