BEGIN:VCALENDAR
PRODID:-//Mozilla.org/NONSGML Mozilla Calendar V1.1//EN
VERSION:2.0
BEGIN:VEVENT
UID:b7aece08-52c7-480b-ac18-9d81e3d1ecc1
DTSTAMP:20260321T100000
DTSTART:20260321T100000
DTEND:20260321T120000
LOCATION:Start- en verzamelpunt Wit Hek Landschap Overijssel, tegenover entree landhuis Beerze, Beerzerpoort 4, 7736 PM Beerze
DESCRIPTION:Met boswachter Arend Spijker op pad de natuur in bij de Beerze Bulten op 21 maart 2026.
SUMMARY:De Groene Karavaan: Excursie&nbsp;Start&nbsp;de&nbsp;Lente bij&nbsp;de&nbsp;Beerze&nbsp;Bulten
PRIORITY:3
END:VEVENT
END:VCALENDAR
