BEGIN:VCALENDAR
PRODID:-//Mozilla.org/NONSGML Mozilla Calendar V1.1//EN
VERSION:2.0
BEGIN:VEVENT
UID:3d596aa4-f7f0-43b1-9d3f-b68fb7494c7a
DTSTAMP:20260323T140000
DTSTART:20260323T140000
DTEND:20260323T153000
LOCATION:Provincie Overijssel, Luttenbergstraat 2, Zwolle, BC 1.8
SUMMARY:Hoorcommissie Gedeputeerde Staten
PRIORITY:3
END:VEVENT
END:VCALENDAR
