BEGIN:VCALENDAR
PRODID:-//Mozilla.org/NONSGML Mozilla Calendar V1.1//EN
VERSION:2.0
BEGIN:VEVENT
UID:2f0e7367-f1c2-437c-b960-eb711c7fd836
DTSTAMP:20260320T163000
DTSTART:20260320T163000
DTEND:20260320T190000
LOCATION:De Wheem, Oud Avereest 22 Balkbrug 
DESCRIPTION:De Herbergsessie in het Reestdal & Vechtdal is een onderdeel van de Groene Karavaan van de provincie Overijssel. Deze sessie vindt plaats op vrijdag 20 maart 2026.
SUMMARY:De Groene Karavaan: Herbergsessie&nbsp;Reestdal&nbsp;&&nbsp;Vechtdal
PRIORITY:3
END:VEVENT
END:VCALENDAR
