BEGIN:VCALENDAR
PRODID:-//Mozilla.org/NONSGML Mozilla Calendar V1.1//EN
VERSION:2.0
BEGIN:VEVENT
UID:0d8efd42-0545-4645-a80e-c9d10564bcde
DTSTAMP:20260518T150000
DTSTART:20260518T150000
DTEND:20260518T163000
LOCATION:Provincie Overijssel, Luttenbergstraat 2, Zwolle, BC 1.8
SUMMARY:Hoorcommissie Gedeputeerde Staten
PRIORITY:3
END:VEVENT
END:VCALENDAR
